BEGIN:VCALENDAR
VERSION:2.0
PRODID:-//wp-events-plugin.com//7.2.3.1//EN
TZID:America/Sao_Paulo
X-WR-TIMEZONE:America/Sao_Paulo
BEGIN:VEVENT
UID:23@veiosdaestrada.com.br
DTSTART;TZID=America/Sao_Paulo:20220424T100000
DTEND;TZID=America/Sao_Paulo:20220424T100000
DTSTAMP:20220419T133050Z
URL:https://veiosdaestrada.com.br/events/27o-aniversario-canibais-mc-4/
SUMMARY:Aniversário Canibais MC   -    Pegada Anjos da Noite MC   -   Pega
 da Old Indians MC
DESCRIPTION:27° Aniversário Canibais MC\n\n\n&nbsp\;\n\n&nbsp\;\nPegada A
 njos da Noite MC\n\n\n&nbsp\;\n\n&nbsp\;\nPegada Old Indians MC\n\n&nbsp\;
CATEGORIES:Eventos
END:VEVENT
BEGIN:VTIMEZONE
TZID:America/Sao_Paulo
X-LIC-LOCATION:America/Sao_Paulo
BEGIN:STANDARD
DTSTART:20210424T100000
TZOFFSETFROM:-0300
TZOFFSETTO:-0300
TZNAME:-03
END:STANDARD
END:VTIMEZONE
END:VCALENDAR